BEGIN:VCALENDAR
VERSION:2.0
PRODID:-//UnMasked - ECPv5.4.0//NONSGML v1.0//EN
CALSCALE:GREGORIAN
METHOD:PUBLISH
X-WR-CALNAME:UnMasked
X-ORIGINAL-URL:https://unmasked.org.au
X-WR-CALDESC:Events for UnMasked
BEGIN:VTIMEZONE
TZID:Australia/Melbourne
BEGIN:STANDARD
TZOFFSETFROM:+1100
TZOFFSETTO:+1000
TZNAME:AEST
DTSTART:20200404T160000
END:STANDARD
BEGIN:DAYLIGHT
TZOFFSETFROM:+1000
TZOFFSETTO:+1100
TZNAME:AEDT
DTSTART:20201003T160000
END:DAYLIGHT
END:VTIMEZONE
BEGIN:VEVENT
DTSTART;TZID=Australia/Melbourne:20201015T100000
DTEND;TZID=Australia/Melbourne:20201015T150000
DTSTAMP:20210301T115648
CREATED:20201017T062536Z
LAST-MODIFIED:20201108T061828Z
UID:246-1602756000-1602774000@unmasked.org.au
SUMMARY:UnMasked Workshop
DESCRIPTION:
URL:https://unmasked.org.au/event/unmasked-workshop-3/
LOCATION:Backbone\, 38 Lytton Road\, East Brisbane\, Queensland\, 4169\, Australia
END:VEVENT
BEGIN:VEVENT
DTSTART;VALUE=DATE:20201020
DTEND;VALUE=DATE:20201021
DTSTAMP:20210301T115648
CREATED:20201017T060211Z
LAST-MODIFIED:20210207T075115Z
UID:232-1603152000-1603238399@unmasked.org.au
SUMMARY:UnMasked Call For Participation
DESCRIPTION:
URL:https://unmasked.org.au/event/unmasked-cfp-1/
LOCATION:Queensland College of Art\, Griffith University\, South Bank Campus\, 226 Grey Street\, South Brisbane\, Queensland\, 4101\, Australia
END:VEVENT
BEGIN:VEVENT
DTSTART;TZID=Australia/Melbourne:20201022T180000
DTEND;TZID=Australia/Melbourne:20201022T200000
DTSTAMP:20210301T115648
CREATED:20201017T043714Z
LAST-MODIFIED:20210127T154444Z
UID:207-1603389600-1603396800@unmasked.org.au
SUMMARY:UnMasked Opening: QCA Grey Street Gallery
DESCRIPTION:Book Tickets Today
URL:https://unmasked.org.au/event/unmasked-opening/
LOCATION:Queensland College of Art\, Griffith University\, South Bank Campus\, 226 Grey Street\, South Brisbane\, Queensland\, 4101\, Australia
END:VEVENT
BEGIN:VEVENT
DTSTART;TZID=Australia/Melbourne:20201025T090000
DTEND;TZID=Australia/Melbourne:20201025T110000
DTSTAMP:20210301T115648
CREATED:20201017T054141Z
LAST-MODIFIED:20210127T153914Z
UID:219-1603616400-1603623600@unmasked.org.au
SUMMARY:UnMasked Workshop
DESCRIPTION:Book Your Place Today
URL:https://unmasked.org.au/event/unmasked-workshop/
LOCATION:Toohey Forest Conservation Park\, Fairlawn Street\, Nathan\, Queensland\, 4111\, Australia
END:VEVENT
BEGIN:VEVENT
DTSTART;TZID=Australia/Melbourne:20201029T180000
DTEND;TZID=Australia/Melbourne:20201029T190000
DTSTAMP:20210301T115648
CREATED:20201018T101350Z
LAST-MODIFIED:20210127T153959Z
UID:280-1603994400-1603998000@unmasked.org.au
SUMMARY:UnMasked Exhibition Floor Talk
DESCRIPTION:Book Tickets Today
URL:https://unmasked.org.au/event/unmasked-exhibition-floor-talk/
LOCATION:Queensland College of Art\, Griffith University\, South Bank Campus\, 226 Grey Street\, South Brisbane\, Queensland\, 4101\, Australia
END:VEVENT
END:VCALENDAR